BEGIN:VCALENDAR
VERSION:2.0
PRODID:-//Your Company//Your Product//EN
BEGIN:VEVENT
UID: SIXT_JOBS_2b9f87fc-db6e-4f9c-b7bd-2f0b7aa06032
DTSTAMP:20260423T133744Z
DTSTART:20260506T100000
DTEND:20260506T160000
SUMMARY:Allgäuer Hochschulmesse
DESCRIPTION:Hochschule Kempten
LOCATION:Hochschule Kempten
END:VEVENT
END:VCALENDAR
