BEGIN:VCALENDAR
VERSION:2.0
PRODID:-//Your Company//Your Product//EN
BEGIN:VEVENT
UID: SIXT_JOBS_6278e887-7ec9-4708-8649-5b5ec717f963
DTSTAMP:20260423T134000Z
DTSTART:20260521T100000
DTEND:20260521T150000
SUMMARY:Career Day
DESCRIPTION:HWR Berlin
LOCATION:Hochschule für Wirtschaft und Recht Berlin
END:VEVENT
END:VCALENDAR
